BEGIN:VCALENDAR
VERSION:2.0
PRODID:-//http://www.vdit.edu.au//NONSGML kigkonsult.se iCalcreator 2.22//
X-WR-TIMEZONE:Australia/Melbourne
BEGIN:VEVENT
UID:20191030T220638UTC-4921FVDU3v@http://www.vdit.edu.au
DTSTAMP:20191030T220638Z
DESCRIPTION:Craig Warren (draft)
DTSTART;TZID=Australia/Melbourne:20191129T094500
DTEND;TZID=Australia/Melbourne:20191129T095500
LOCATION:Room 43 Building 901 Ground Floor
SUMMARY:Welcome 
END:VEVENT
END:VCALENDAR
