BEGIN:VCALENDAR
VERSION:2.0
PRODID:-//http://www.vdit.edu.au//NONSGML kigkonsult.se iCalcreator 2.22//
X-WR-TIMEZONE:Australia/Melbourne
BEGIN:VEVENT
UID:20181116T035226UTC-3909ZhliCh@http://www.vdit.edu.au
DTSTAMP:20181116T035226Z
DESCRIPTION:Zoran Sugarevski\,  Chair VDIT & Executive Director IT Services
  Victoria University
DTSTART;TZID=Australia/Melbourne:20181126T094500
DTEND;TZID=Australia/Melbourne:20181126T095500
LOCATION:Room G81
SUMMARY:Welcome & Opening
END:VEVENT
END:VCALENDAR
