BEGIN:VCALENDAR
VERSION:2.0
PRODID:-//http://www.vdit.edu.au//NONSGML kigkonsult.se iCalcreator 2.22//
X-WR-TIMEZONE:Australia/Melbourne
BEGIN:VEVENT
UID:20191030T231657UTC-5435uZIXOx@http://www.vdit.edu.au
DTSTAMP:20191030T231657Z
DESCRIPTION:Stephen Castellas\,  Leader\,  Infrastructure
DTSTART;TZID=Australia/Melbourne:20191129T115000
DTEND;TZID=Australia/Melbourne:20191129T123000
LOCATION:Room 159 Building 902 Level 1
SUMMARY:VDIT - Communities of Practice Top 5 Issues and Outcomes
END:VEVENT
END:VCALENDAR
