BEGIN:VCALENDAR
VERSION:2.0
PRODID:-//http://www.vdit.edu.au//NONSGML kigkonsult.se iCalcreator 2.22//
X-WR-TIMEZONE:Australia/Melbourne
BEGIN:VEVENT
UID:20181125T081617UTC-3461P1KIjt@http://www.vdit.edu.au
DTSTAMP:20181125T081617Z
DESCRIPTION:\n							Richard Cawood\,  Strategy Director\,  Ernst & Young							\n						
DTSTART;TZID=Australia/Melbourne:20181126T110000
DTEND;TZID=Australia/Melbourne:20181126T114500
LOCATION:Room G81
SUMMARY:University of the Future: Can the Universities of Today Lead Learni
 ng for Tomorrow?  
END:VEVENT
END:VCALENDAR
