BEGIN:VCALENDAR
VERSION:2.0
PRODID:-//http://www.vdit.edu.au//NONSGML kigkonsult.se iCalcreator 2.22//
X-WR-TIMEZONE:Australia/Melbourne
BEGIN:VEVENT
UID:20181125T081657UTC-9124DXbN4D@http://www.vdit.edu.au
DTSTAMP:20181125T081657Z
DESCRIPTION:\n							Cliff Ashford\,  Monash University							\n						
DTSTART;TZID=Australia/Melbourne:20181126T121500
DTEND;TZID=Australia/Melbourne:20181126T124500
LOCATION:Room G81
SUMMARY:Understanding the Practicalities of Learning Analytics with Moodle 
 (or any LMS)
END:VEVENT
END:VCALENDAR
