BEGIN:VCALENDAR
VERSION:2.0
PRODID:-//http://www.vdit.edu.au//NONSGML kigkonsult.se iCalcreator 2.22//
X-WR-TIMEZONE:Australia/Melbourne
BEGIN:VEVENT
UID:20181125T081725UTC-14946UIr17@http://www.vdit.edu.au
DTSTAMP:20181125T081725Z
DESCRIPTION:\n							Professor Richard Constantine\,  Vice President Engagement an
 d Resources\,  Victoria University							\n						
DTSTART;TZID=Australia/Melbourne:20181126T134500
DTEND;TZID=Australia/Melbourne:20181126T143000
LOCATION:Room G81
SUMMARY:Transition from CIO to Executive
END:VEVENT
END:VCALENDAR
