BEGIN:VCALENDAR
VERSION:2.0
PRODID:-//http://www.vdit.edu.au//NONSGML kigkonsult.se iCalcreator 2.22//
X-WR-TIMEZONE:Australia/Melbourne
BEGIN:VEVENT
UID:20181125T081602UTC-4623sEjnXC@http://www.vdit.edu.au
DTSTAMP:20181125T081602Z
DESCRIPTION:\n							Sue Elliott\,  Deputy Vice-Chancellor & Vice-President (Educa
 tion) Monash University							\n						
DTSTART;TZID=Australia/Melbourne:20181126T095500
DTEND;TZID=Australia/Melbourne:20181126T103000
LOCATION:Room G81
SUMMARY:The Future of Education and ICT
END:VEVENT
END:VCALENDAR
