BEGIN:VCALENDAR
VERSION:2.0
PRODID:-//http://www.vdit.edu.au//NONSGML kigkonsult.se iCalcreator 2.22//
X-WR-TIMEZONE:Australia/Melbourne
BEGIN:VEVENT
UID:20191101T061515UTC-1257bCXcFF@http://www.vdit.edu.au
DTSTAMP:20191101T061515Z
DESCRIPTION:\n							Stuart Thornton\,  RMIT University							\n						
DTSTART;TZID=Australia/Melbourne:20191129T154500
DTEND;TZID=Australia/Melbourne:20191129T163000
LOCATION:Room 161 | Bldg 902 | LVL 1
SUMMARY:Responding to the needs of Researchers
END:VEVENT
END:VCALENDAR
