BEGIN:VCALENDAR
VERSION:2.0
PRODID:-//http://www.vdit.edu.au//NONSGML kigkonsult.se iCalcreator 2.22//
X-WR-TIMEZONE:Australia/Melbourne
BEGIN:VEVENT
UID:20181125T081811UTC-7963OwSN6m@http://www.vdit.edu.au
DTSTAMP:20181125T081811Z
DESCRIPTION:\n							John Parry\,  Director Enterprise ICT\,  La Trobe University							
 \n						
DTSTART;TZID=Australia/Melbourne:20181126T160000
DTEND;TZID=Australia/Melbourne:20181126T163000
LOCATION:Room G81
SUMMARY:Research of the Future - Dynamic\, Disruptive\, Digital
END:VEVENT
END:VCALENDAR
