BEGIN:VCALENDAR
VERSION:2.0
PRODID:-//http://www.vdit.edu.au//NONSGML kigkonsult.se iCalcreator 2.22//
X-WR-TIMEZONE:Australia/Melbourne
BEGIN:VEVENT
UID:20181125T081625UTC-8336ctdvrK@http://www.vdit.edu.au
DTSTAMP:20181125T081625Z
DESCRIPTION:\n							Trish McCluskey\,  Director Connected Learning\;  &  David Da
 y\,  Program Director\,  First Year and Beyond\,  Victoria University							\n						
DTSTART;TZID=Australia/Melbourne:20181126T114500
DTEND;TZID=Australia/Melbourne:20181126T121500
LOCATION:Room G81
SUMMARY:Rebuilding the First-Year Experience\, One Block at a Time
END:VEVENT
END:VCALENDAR
