BEGIN:VCALENDAR
VERSION:2.0
PRODID:-//http://www.vdit.edu.au//NONSGML kigkonsult.se iCalcreator 2.22//
X-WR-TIMEZONE:Australia/Melbourne
BEGIN:VEVENT
UID:20191101T061228UTC-6915aZrgWU@http://www.vdit.edu.au
DTSTAMP:20191101T061228Z
DESCRIPTION:
DTSTART;TZID=Australia/Melbourne:20191129T153000
DTEND;TZID=Australia/Melbourne:20191129T151500
LOCATION:Room 43 Building 901 Ground Floor
SUMMARY:Panel Session - Internet of Things - Smart Cities
END:VEVENT
END:VCALENDAR
