BEGIN:VCALENDAR
VERSION:2.0
PRODID:-//http://www.vdit.edu.au//NONSGML kigkonsult.se iCalcreator 2.22//
X-WR-TIMEZONE:Australia/Melbourne
BEGIN:VEVENT
UID:20191125T012924UTC-9466C4Je5b@http://www.vdit.edu.au
DTSTAMP:20191125T012924Z
DESCRIPTION:Dr Joseph Lawrence\,  Pro Vice-Chancellor (Enterprise)\,  Feder
 ation University Australia
DTSTART;TZID=Australia/Melbourne:20191129T094000
DTEND;TZID=Australia/Melbourne:20191129T100000
LOCATION:Room 43 Building 901 Ground Floor
SUMMARY:Opening Address
END:VEVENT
END:VCALENDAR
