BEGIN:VCALENDAR
VERSION:2.0
PRODID:-//http://www.vdit.edu.au//NONSGML kigkonsult.se iCalcreator 2.22//
X-WR-TIMEZONE:Australia/Melbourne
BEGIN:VEVENT
UID:20191030T221300UTC-3077F557lI@http://www.vdit.edu.au
DTSTAMP:20191030T221300Z
DESCRIPTION:
DTSTART;TZID=Australia/Melbourne:20191129T110000
DTEND;TZID=Australia/Melbourne:20191129T111500
LOCATION:Room 166 Building 902 Level 1
SUMMARY:Morning Tea
END:VEVENT
END:VCALENDAR
