BEGIN:VCALENDAR
VERSION:2.0
PRODID:-//http://www.vdit.edu.au//NONSGML kigkonsult.se iCalcreator 2.22//
X-WR-TIMEZONE:Australia/Melbourne
BEGIN:VEVENT
UID:20191030T232333UTC-5840natnAJ@http://www.vdit.edu.au
DTSTAMP:20191030T232333Z
DESCRIPTION:
DTSTART;TZID=Australia/Melbourne:20191129T003000
DTEND;TZID=Australia/Melbourne:20191129T130000
LOCATION:
SUMMARY:Lunch
END:VEVENT
END:VCALENDAR
