BEGIN:VCALENDAR
VERSION:2.0
PRODID:-//http://www.vdit.edu.au//NONSGML kigkonsult.se iCalcreator 2.22//
X-WR-TIMEZONE:Australia/Melbourne
BEGIN:VEVENT
UID:20181125T081705UTC-1295FKA90M@http://www.vdit.edu.au
DTSTAMP:20181125T081705Z
DESCRIPTION:\n							Bill Petridis\,  Manager Audio Visual and Network Services De
 akin University\; & Myles Fenton Manager Audio Visual Operations and Servi
 ce Delivery Monash University							\n						
DTSTART;TZID=Australia/Melbourne:20181126T121500
DTEND;TZID=Australia/Melbourne:20181126T124500
LOCATION:Room G03 with a tour of G54
SUMMARY:Learning Spaces Panel - Organisational & technology Evolution (Cont
 inued)
END:VEVENT
END:VCALENDAR
