BEGIN:VCALENDAR
VERSION:2.0
PRODID:-//http://www.vdit.edu.au//NONSGML kigkonsult.se iCalcreator 2.22//
X-WR-TIMEZONE:Australia/Melbourne
BEGIN:VEVENT
UID:20191030T221121UTC-1338XlLXAp@http://www.vdit.edu.au
DTSTAMP:20191030T221121Z
DESCRIPTION:Dayle Stevens\,  Chief Data Officer\,  AGL Leadership\,  Divers
 ity and Inclusion
DTSTART;TZID=Australia/Melbourne:20191129T102000
DTEND;TZID=Australia/Melbourne:20191129T110000
LOCATION:Room 43 Building 901 Ground Floor
SUMMARY:Keynote
END:VEVENT
END:VCALENDAR
