BEGIN:VCALENDAR
VERSION:2.0
PRODID:-//http://www.vdit.edu.au//NONSGML kigkonsult.se iCalcreator 2.22//
X-WR-TIMEZONE:Australia/Melbourne
BEGIN:VEVENT
UID:20191101T060816UTC-2686pv2W48@http://www.vdit.edu.au
DTSTAMP:20191101T060816Z
DESCRIPTION:Dr Leah Heiss\,  Designer and RMIT Researcher
DTSTART;TZID=Australia/Melbourne:20191129T133000
DTEND;TZID=Australia/Melbourne:20191129T141500
LOCATION:Room 43 Building 901 Ground Floor
SUMMARY:Keynote - Designing Collaborations: Working across disciplines and 
 boundaries to create human-centred wearables\, experiences and opportuniti
 es
END:VEVENT
END:VCALENDAR
