BEGIN:VCALENDAR
VERSION:2.0
PRODID:-//http://www.vdit.edu.au//NONSGML kigkonsult.se iCalcreator 2.22//
X-WR-TIMEZONE:Australia/Melbourne
BEGIN:VEVENT
UID:20181125T081829UTC-3700aNxD7k@http://www.vdit.edu.au
DTSTAMP:20181125T081829Z
DESCRIPTION:\n							Panel Chair: Chau Lam\,  Innovation Lead\,  eSolutions Monash
  University							\n						
DTSTART;TZID=Australia/Melbourne:20181126T163000
DTEND;TZID=Australia/Melbourne:20181126T170000
LOCATION:Room G81
SUMMARY:From Students to Professionals:  Can an Engagement Program Prepare 
 our Students for their Career
END:VEVENT
END:VCALENDAR
