BEGIN:VCALENDAR
VERSION:2.0
PRODID:-//http://www.vdit.edu.au//NONSGML kigkonsult.se iCalcreator 2.22//
X-WR-TIMEZONE:Australia/Melbourne
BEGIN:VEVENT
UID:20181125T081802UTC-3273mV7e0X@http://www.vdit.edu.au
DTSTAMP:20181125T081802Z
DESCRIPTION:\n							Atuna Das\,  Enterprise Architect Federation University\; & H
 ugh Townsend\,  Technical Architect Federation University							\n						
DTSTART;TZID=Australia/Melbourne:20181126T153000
DTEND;TZID=Australia/Melbourne:20181126T160000
LOCATION:Room G03
SUMMARY:Federation University ICT - Thinking Beyond Band-Aid Solutions
END:VEVENT
END:VCALENDAR
