BEGIN:VCALENDAR
VERSION:2.0
PRODID:-//http://www.vdit.edu.au//NONSGML kigkonsult.se iCalcreator 2.22//
X-WR-TIMEZONE:Australia/Melbourne
BEGIN:VEVENT
UID:20191101T061725UTC-3188N9e95v@http://www.vdit.edu.au
DTSTAMP:20191101T061725Z
DESCRIPTION:SK Cheng\,  University of Melbourne
DTSTART;TZID=Australia/Melbourne:20191129T154500
DTEND;TZID=Australia/Melbourne:20191129T163000
LOCATION:Room 163 | Bldg 902 | LVL 1
SUMMARY:Emerging Technology
END:VEVENT
END:VCALENDAR
