BEGIN:VCALENDAR
VERSION:2.0
PRODID:-//http://www.vdit.edu.au//NONSGML kigkonsult.se iCalcreator 2.22//
X-WR-TIMEZONE:Australia/Melbourne
BEGIN:VEVENT
UID:20181125T081024UTC-0917OsO6o4@http://www.vdit.edu.au
DTSTAMP:20181125T081024Z
DESCRIPTION:\n							Andrew Selvaggi\,  Senior Program Manager\,  University of Me
 lbourne							\n						
DTSTART;TZID=Australia/Melbourne:20181126T143000
DTEND;TZID=Australia/Melbourne:20181126T150000
LOCATION:Room G81
SUMMARY:Digital Wayfinding @ UoM
END:VEVENT
END:VCALENDAR
