BEGIN:VCALENDAR
VERSION:2.0
PRODID:-//http://www.vdit.edu.au//NONSGML kigkonsult.se iCalcreator 2.22//
X-WR-TIMEZONE:Australia/Melbourne
BEGIN:VEVENT
UID:20191030T235314UTC-5647ShDMh0@http://www.vdit.edu.au
DTSTAMP:20191030T235314Z
DESCRIPTION:Balaji Naidu\,  RMIT University
DTSTART;TZID=Australia/Melbourne:20191129T153000
DTEND;TZID=Australia/Melbourne:20191129T161000
LOCATION:Room 159 Building 902 Level 1
SUMMARY:Connectivity
END:VEVENT
END:VCALENDAR
