BEGIN:VCALENDAR
VERSION:2.0
PRODID:-//http://www.vdit.edu.au//NONSGML kigkonsult.se iCalcreator 2.22//
X-WR-TIMEZONE:Australia/Melbourne
BEGIN:VEVENT
UID:20191101T061928UTC-0859uU3U8J@http://www.vdit.edu.au
DTSTAMP:20191101T061928Z
DESCRIPTION:Craig Warren\,  Chair VDIT  and Sahar Oujil\,  Director\,  ITS\
 ,  Federation University
DTSTART;TZID=Australia/Melbourne:20191129T163000
DTEND;TZID=Australia/Melbourne:20191129T163000
LOCATION:Room 43 Building 902 Ground Floor
SUMMARY:Close
END:VEVENT
END:VCALENDAR
