BEGIN:VCALENDAR
VERSION:2.0
PRODID:-//http://www.vdit.edu.au//NONSGML kigkonsult.se iCalcreator 2.22//
X-WR-TIMEZONE:Australia/Melbourne
BEGIN:VEVENT
UID:20191125T051051UTC-3974UEscKU@http://www.vdit.edu.au
DTSTAMP:20191125T051051Z
DESCRIPTION:\n							Jeremy Egan\,  Federation University							\n						\, \n							Linda Tran and Sum
 er Nasrawi\,  Monash University							\n						
DTSTART;TZID=Australia/Melbourne:20191129T115000
DTEND;TZID=Australia/Melbourne:20191129T123000
LOCATION:Room 197 | Bldg 902 | LVL 1
SUMMARY:Business Intelligence/Knowledge Management
END:VEVENT
END:VCALENDAR
