BEGIN:VCALENDAR
VERSION:2.0
PRODID:-//http://www.vdit.edu.au//NONSGML kigkonsult.se iCalcreator 2.22//
X-WR-TIMEZONE:Australia/Melbourne
BEGIN:VEVENT
UID:20191101T062047UTC-3302HhUuug@http://www.vdit.edu.au
DTSTAMP:20191101T062047Z
DESCRIPTION:
DTSTART;TZID=Australia/Melbourne:20191129T170000
DTEND;TZID=Australia/Melbourne:20191129T171000
LOCATION:TBA Ground Floor
SUMMARY:BBQ and Drinks
END:VEVENT
END:VCALENDAR
