BEGIN:VCALENDAR
VERSION:2.0
PRODID:-//http://www.vdit.edu.au//NONSGML kigkonsult.se iCalcreator 2.22//
X-WR-TIMEZONE:Australia/Melbourne
BEGIN:VEVENT
UID:20181125T081754UTC-9616U3Zvtc@http://www.vdit.edu.au
DTSTAMP:20181125T081754Z
DESCRIPTION:\n							Glen Clinch\,  Manager Business Intelligence and Analytics Mo
 nash University							\n						
DTSTART;TZID=Australia/Melbourne:20181126T153000
DTEND;TZID=Australia/Melbourne:20181126T160000
LOCATION:Room G81
SUMMARY:Analytics Everywhere
END:VEVENT
END:VCALENDAR
