BEGIN:VCALENDAR
VERSION:2.0
PRODID:-//http://www.vdit.edu.au//NONSGML kigkonsult.se iCalcreator 2.22//
X-WR-TIMEZONE:Australia/Melbourne
BEGIN:VEVENT
UID:20191101T061037UTC-4295WiNat1@http://www.vdit.edu.au
DTSTAMP:20191101T061037Z
DESCRIPTION:Sue Owen\,  Director\,  Library and Learning Spaces Federation 
 University
DTSTART;TZID=Australia/Melbourne:20191129T141500
DTEND;TZID=Australia/Melbourne:20191129T150000
LOCATION:Room 43 Building 901 Ground Floor
SUMMARY:Alternate Teaching Model
END:VEVENT
END:VCALENDAR
