BEGIN:VCALENDAR
VERSION:2.0
PRODID:-//http://www.vdit.edu.au//NONSGML kigkonsult.se iCalcreator 2.22//
X-WR-TIMEZONE:Australia/Melbourne
BEGIN:VEVENT
UID:20191101T061311UTC-9495tBuua4@http://www.vdit.edu.au
DTSTAMP:20191101T061311Z
DESCRIPTION:
DTSTART;TZID=Australia/Melbourne:20191129T153000
DTEND;TZID=Australia/Melbourne:20191129T154500
LOCATION:Room 166 Building 166 Level 1
SUMMARY:Afternoon Tea
END:VEVENT
END:VCALENDAR
